BEGIN:VCALENDAR
VERSION:2.0
PRODID:icalendar-ruby
CALSCALE:GREGORIAN
METHOD:PUBLISH
BEGIN:VEVENT
DTSTAMP:20260421T053758Z
UID:6-759891@riverchristian.org
DTSTART:20261004T170000Z
DTEND:20261004T183000Z
CLASS:PUBLIC
CREATED:20260420T173656
DESCRIPTION:Every Sunday\, 10:00 AM - 11:30 AM\nPlease Join Us For Live Str
 eaming Of Our Church Services Sundays At 10 am.\nClick on the links below 
 to watch live stream :\n\n\nSunday Service\nhttps://www.youtube.com/@theri
 verchurch8829/streams
LAST-MODIFIED:20260420T173656
LOCATION:
SUMMARY:Service Live Stream
URL;VALUE=URI:https://www.riverchristian.org/events/service-live-stream/202
 6-10-04
ATTACH;FILENAME=Sermon-Live-Stream.jpg;FMTTYPE=image/jpeg:https://dq5pwpg1q
 8ru0.cloudfront.net/2023/10/05/12/13/15/e85c3b06-ef7e-47b4-b61f-ab2d817ef9
 9b/Sermon-Live-Stream.jpg
END:VEVENT
END:VCALENDAR
