BEGIN:VCALENDAR
VERSION:2.0
PRODID:icalendar-ruby
CALSCALE:GREGORIAN
METHOD:PUBLISH
BEGIN:VEVENT
DTSTAMP:20260423T120643Z
UID:211-766462@riverchristian.org
DTSTART:20260426T170000Z
DTEND:20260426T183000Z
CLASS:PUBLIC
CREATED:20260422T144755
DESCRIPTION:
LAST-MODIFIED:20260422T144755
LOCATION:The River Christian Church\, 10475 W 4th Street\, Reno\, NV\, US 8
 9523
SUMMARY:"The Unseen Battle"
URL;VALUE=URI:https://www.riverchristian.org/events/the-unseen-battle/2026-
 04-26
ATTACH;FILENAME=1920-title-1057548673.jpg;FMTTYPE=image/jpeg:https://dq5pwp
 g1q8ru0.cloudfront.net/2026/04/22/21/47/54/6acc1eb4-4b71-44ea-8835-c3f314d
 c13f8/1920-title-1057548673.jpg
END:VEVENT
END:VCALENDAR
